BEGIN:VCALENDAR
VERSION:2.0
PRODID:-// - ECPv6.5.0//NONSGML v1.0//EN
CALSCALE:GREGORIAN
METHOD:PUBLISH
X-ORIGINAL-URL:https://asciburgia.de
X-WR-CALDESC:Veranstaltungen für 
REFRESH-INTERVAL;VALUE=DURATION:PT1H
X-Robots-Tag:noindex
X-PUBLISHED-TTL:PT1H
BEGIN:VTIMEZONE
TZID:Europe/Berlin
BEGIN:DAYLIGHT
TZOFFSETFROM:+0100
TZOFFSETTO:+0200
TZNAME:CEST
DTSTART:20220327T010000
END:DAYLIGHT
BEGIN:STANDARD
TZOFFSETFROM:+0200
TZOFFSETTO:+0100
TZNAME:CET
DTSTART:20221030T010000
END:STANDARD
BEGIN:DAYLIGHT
TZOFFSETFROM:+0100
TZOFFSETTO:+0200
TZNAME:CEST
DTSTART:20230326T010000
END:DAYLIGHT
BEGIN:STANDARD
TZOFFSETFROM:+0200
TZOFFSETTO:+0100
TZNAME:CET
DTSTART:20231029T010000
END:STANDARD
BEGIN:DAYLIGHT
TZOFFSETFROM:+0100
TZOFFSETTO:+0200
TZNAME:CEST
DTSTART:20240331T010000
END:DAYLIGHT
BEGIN:STANDARD
TZOFFSETFROM:+0200
TZOFFSETTO:+0100
TZNAME:CET
DTSTART:20241027T010000
END:STANDARD
END:VTIMEZONE
BEGIN:VEVENT
DTSTART;VALUE=DATE:20240713
DTEND;VALUE=DATE:20240714
DTSTAMP:20260423T131521
CREATED:20240603T164029Z
LAST-MODIFIED:20240603T164158Z
UID:1449-1720828800-1720915199@asciburgia.de
SUMMARY:Semesterabschlusskneipe
DESCRIPTION:
URL:https://asciburgia.de/veranstaltung/semesterabschlusskneipe-4/
END:VEVENT
BEGIN:VEVENT
DTSTART;VALUE=DATE:20240712
DTEND;VALUE=DATE:20240713
DTSTAMP:20260423T131521
CREATED:20240603T163856Z
LAST-MODIFIED:20240603T163856Z
UID:1446-1720742400-1720828799@asciburgia.de
SUMMARY:Gartenfest
DESCRIPTION:
URL:https://asciburgia.de/veranstaltung/gartenfest-5/
END:VEVENT
BEGIN:VEVENT
DTSTART;VALUE=DATE:20240706
DTEND;VALUE=DATE:20240707
DTSTAMP:20260423T131521
CREATED:20240603T163804Z
LAST-MODIFIED:20240603T163804Z
UID:1444-1720224000-1720310399@asciburgia.de
SUMMARY:Kajakfahrt
DESCRIPTION:
URL:https://asciburgia.de/veranstaltung/kajakfahrt/
END:VEVENT
BEGIN:VEVENT
DTSTART;VALUE=DATE:20240628
DTEND;VALUE=DATE:20240701
DTSTAMP:20260423T131521
CREATED:20240603T163624Z
LAST-MODIFIED:20240603T163624Z
UID:1442-1719532800-1719791999@asciburgia.de
SUMMARY:Aktivenfahrt nach Berlin
DESCRIPTION:
URL:https://asciburgia.de/veranstaltung/aktivenfahrt-nach-berlin/
END:VEVENT
BEGIN:VEVENT
DTSTART;VALUE=DATE:20240621
DTEND;VALUE=DATE:20240622
DTSTAMP:20260423T131521
CREATED:20240603T163513Z
LAST-MODIFIED:20240603T163513Z
UID:1440-1718928000-1719014399@asciburgia.de
SUMMARY:Midsommarfest
DESCRIPTION:
URL:https://asciburgia.de/veranstaltung/midsommarfest/
END:VEVENT
BEGIN:VEVENT
DTSTART;TZID=Europe/Berlin:20240211T110000
DTEND;TZID=Europe/Berlin:20240211T170000
DTSTAMP:20260423T131521
CREATED:20231123T152324Z
LAST-MODIFIED:20231123T152324Z
UID:1430-1707649200-1707670800@asciburgia.de
SUMMARY:Frühschoppen
DESCRIPTION:
URL:https://asciburgia.de/veranstaltung/fruehschoppen-9/
END:VEVENT
BEGIN:VEVENT
DTSTART;TZID=Europe/Berlin:20240210T201500
DTEND;TZID=Europe/Berlin:20240210T201500
DTSTAMP:20260423T131521
CREATED:20231123T152240Z
LAST-MODIFIED:20231123T152240Z
UID:1428-1707596100-1707596100@asciburgia.de
SUMMARY:Semesterabschlusskneipe
DESCRIPTION:
URL:https://asciburgia.de/veranstaltung/semesterabschlusskneipe-3/
END:VEVENT
BEGIN:VEVENT
DTSTART;TZID=Europe/Berlin:20240126T180000
DTEND;TZID=Europe/Berlin:20240126T180000
DTSTAMP:20260423T131521
CREATED:20231123T152357Z
LAST-MODIFIED:20231123T152357Z
UID:1432-1706292000-1706292000@asciburgia.de
SUMMARY:Kartfahren mit B1 Arminia
DESCRIPTION:
URL:https://asciburgia.de/veranstaltung/kartfahren-mit-b1-arminia/
END:VEVENT
BEGIN:VEVENT
DTSTART;TZID=Europe/Berlin:20240113T180000
DTEND;TZID=Europe/Berlin:20240113T180000
DTSTAMP:20260423T131521
CREATED:20231123T152429Z
LAST-MODIFIED:20231123T152429Z
UID:1434-1705168800-1705168800@asciburgia.de
SUMMARY:Lasertag
DESCRIPTION:
URL:https://asciburgia.de/veranstaltung/lasertag/
END:VEVENT
BEGIN:VEVENT
DTSTART;VALUE=DATE:20231216
DTEND;VALUE=DATE:20231217
DTSTAMP:20260423T131521
CREATED:20231123T151608Z
LAST-MODIFIED:20231123T151608Z
UID:1426-1702684800-1702771199@asciburgia.de
SUMMARY:Thomastag-Kneipe in Nürnberg
DESCRIPTION:
URL:https://asciburgia.de/veranstaltung/thomastag-kneipe-in-nuernberg/
END:VEVENT
BEGIN:VEVENT
DTSTART;TZID=Europe/Berlin:20231209T200000
DTEND;TZID=Europe/Berlin:20231209T200000
DTSTAMP:20260423T131521
CREATED:20231123T151454Z
LAST-MODIFIED:20231123T151454Z
UID:1424-1702152000-1702152000@asciburgia.de
SUMMARY:Wei(h)nachtskneipe
DESCRIPTION:
URL:https://asciburgia.de/veranstaltung/weihnachtskneipe-2/
END:VEVENT
BEGIN:VEVENT
DTSTART;TZID=Europe/Berlin:20231208T200000
DTEND;TZID=Europe/Berlin:20231208T200000
DTSTAMP:20260423T131521
CREATED:20231123T151127Z
LAST-MODIFIED:20231123T151127Z
UID:1422-1702065600-1702065600@asciburgia.de
SUMMARY:Weihnachtsmarkt im Garten adH
DESCRIPTION:
URL:https://asciburgia.de/veranstaltung/weihnachtsmarkt-im-garten-adh/
END:VEVENT
BEGIN:VEVENT
DTSTART;TZID=Europe/Berlin:20230723T110000
DTEND;TZID=Europe/Berlin:20230723T170000
DTSTAMP:20260423T131521
CREATED:20230320T161954Z
LAST-MODIFIED:20230320T161954Z
UID:1419-1690110000-1690131600@asciburgia.de
SUMMARY:Frühschoppen
DESCRIPTION:
URL:https://asciburgia.de/veranstaltung/fruehschoppen-8/
END:VEVENT
BEGIN:VEVENT
DTSTART;TZID=Europe/Berlin:20230722T200000
DTEND;TZID=Europe/Berlin:20230722T200000
DTSTAMP:20260423T131521
CREATED:20230320T161927Z
LAST-MODIFIED:20230320T161927Z
UID:1417-1690056000-1690056000@asciburgia.de
SUMMARY:Semesterabschlusskneipe
DESCRIPTION:
URL:https://asciburgia.de/veranstaltung/semesterabschlusskneipe-2/
END:VEVENT
BEGIN:VEVENT
DTSTART;TZID=Europe/Berlin:20230721T180000
DTEND;TZID=Europe/Berlin:20230721T180000
DTSTAMP:20260423T131521
CREATED:20230320T161852Z
LAST-MODIFIED:20230320T161852Z
UID:1415-1689962400-1689962400@asciburgia.de
SUMMARY:Gartenfest
DESCRIPTION:
URL:https://asciburgia.de/veranstaltung/gartenfest-4/
END:VEVENT
BEGIN:VEVENT
DTSTART;TZID=Europe/Berlin:20230708T160000
DTEND;TZID=Europe/Berlin:20230708T170000
DTSTAMP:20260423T131521
CREATED:20230320T161723Z
LAST-MODIFIED:20230320T161723Z
UID:1413-1688832000-1688835600@asciburgia.de
SUMMARY:Escape Room
DESCRIPTION:
URL:https://asciburgia.de/veranstaltung/escape-room/
END:VEVENT
BEGIN:VEVENT
DTSTART;VALUE=DATE:20230608
DTEND;VALUE=DATE:20230612
DTSTAMP:20260423T131521
CREATED:20230320T161630Z
LAST-MODIFIED:20230320T161630Z
UID:1411-1686182400-1686527999@asciburgia.de
SUMMARY:Stiftungsfest
DESCRIPTION:Donnerstag 08.06.2023 \nab 18.00 Uhr: Begrüßungsabend – sommerlich-chic \nFreitag 09.06.2023 \nab 20.00 Uhr Kommers adH – Vollcouleur \nab 18.00 Uhr Begleitprogramm für Damen (voraussichtlich Nikolaushof\, konkrete Planungen bzgl. Anfahrt usw. werden noch im Detail kommuniziert) \nSamstag 10.06.2023 \nab 10.00 Uhr GC (Tagesordnung und konkrete Einladung folgen schriftlich) \nab 11.00 Uhr AHC (Tagesordnung und konkrete Einladung folgen schriftlich) \nab 18.00 Uhr Tanzfest in den Neumann Residenzgaststätten neben der Würzburger Residenz – Abendgarderobe \nSonntag 11.06.2023 \nab 11.00 Uhr Frühschoppen – sommerlich-chic / Tracht
URL:https://asciburgia.de/veranstaltung/stiftungsfest-4/
END:VEVENT
BEGIN:VEVENT
DTSTART;VALUE=DATE:20230526
DTEND;VALUE=DATE:20230531
DTSTAMP:20260423T131521
CREATED:20230320T161447Z
LAST-MODIFIED:20230320T161447Z
UID:1409-1685059200-1685491199@asciburgia.de
SUMMARY:Coburger Pfingstkongress
DESCRIPTION:
URL:https://asciburgia.de/veranstaltung/coburger-pfingstkongress-2/
END:VEVENT
BEGIN:VEVENT
DTSTART;TZID=Europe/Berlin:20230512T200000
DTEND;TZID=Europe/Berlin:20230512T200000
DTSTAMP:20260423T131521
CREATED:20230320T161326Z
LAST-MODIFIED:20230320T161326Z
UID:1407-1683921600-1683921600@asciburgia.de
SUMMARY:Bierprobe
DESCRIPTION:
URL:https://asciburgia.de/veranstaltung/bierprobe/
END:VEVENT
BEGIN:VEVENT
DTSTART;TZID=Europe/Berlin:20230501T120000
DTEND;TZID=Europe/Berlin:20230501T170000
DTSTAMP:20260423T131521
CREATED:20230320T161238Z
LAST-MODIFIED:20230320T161238Z
UID:1405-1682942400-1682960400@asciburgia.de
SUMMARY:Maiwanderung
DESCRIPTION:
URL:https://asciburgia.de/veranstaltung/maiwanderung-3/
END:VEVENT
BEGIN:VEVENT
DTSTART;TZID=Europe/Berlin:20230428T200000
DTEND;TZID=Europe/Berlin:20230428T200000
DTSTAMP:20260423T131521
CREATED:20230320T161122Z
LAST-MODIFIED:20230320T161122Z
UID:1403-1682712000-1682712000@asciburgia.de
SUMMARY:Quiz-Spieleabend
DESCRIPTION:
URL:https://asciburgia.de/veranstaltung/quiz-spieleabend/
END:VEVENT
BEGIN:VEVENT
DTSTART;TZID=Europe/Berlin:20230423T110000
DTEND;TZID=Europe/Berlin:20230423T110000
DTSTAMP:20260423T131521
CREATED:20230320T161037Z
LAST-MODIFIED:20230320T161037Z
UID:1401-1682247600-1682247600@asciburgia.de
SUMMARY:Frühschoppen
DESCRIPTION:
URL:https://asciburgia.de/veranstaltung/fruehschoppen-7/
END:VEVENT
BEGIN:VEVENT
DTSTART;TZID=Europe/Berlin:20230422T200000
DTEND;TZID=Europe/Berlin:20230422T200000
DTSTAMP:20260423T131521
CREATED:20230320T160931Z
LAST-MODIFIED:20230320T160931Z
UID:1399-1682193600-1682193600@asciburgia.de
SUMMARY:Semesterantrittskneipe
DESCRIPTION:
URL:https://asciburgia.de/veranstaltung/semesterantrittskneipe-5/
LOCATION:adH\, Salvator Str. 16\, Würzburg\, Bayern\, 97074\, Deutschland
END:VEVENT
BEGIN:VEVENT
DTSTART;TZID=Europe/Berlin:20230211T190000
DTEND;TZID=Europe/Berlin:20230211T190000
DTSTAMP:20260423T131521
CREATED:20230123T083425Z
LAST-MODIFIED:20230123T083425Z
UID:1396-1676142000-1676142000@asciburgia.de
SUMMARY:Arminenkneipe / Abkneipe des Wintersemesters 2022/23
DESCRIPTION:Die Kneipe beginnt um 20 Uhr hct. Im Vorfeld findet ein gemeinsames Essen adH statt\, das von unserem Freundschaftsbund T! Arminia Köln ausgerichtet wird. Um Anmeldung wird gebeten. Das Essen beginnt um 19 Uhr hst.
URL:https://asciburgia.de/veranstaltung/arminenkneipe-abkneipe-des-wintersemesters-2022-23/
END:VEVENT
BEGIN:VEVENT
DTSTART;TZID=Europe/Berlin:20220717T110000
DTEND;TZID=Europe/Berlin:20220717T110000
DTSTAMP:20260423T131521
CREATED:20220401T084346Z
LAST-MODIFIED:20220401T084346Z
UID:1028-1658055600-1658055600@asciburgia.de
SUMMARY:Frühschoppen
DESCRIPTION:
URL:https://asciburgia.de/veranstaltung/fruehschoppen-6/
END:VEVENT
BEGIN:VEVENT
DTSTART;TZID=Europe/Berlin:20220716T201500
DTEND;TZID=Europe/Berlin:20220716T201500
DTSTAMP:20260423T131521
CREATED:20220401T084246Z
LAST-MODIFIED:20220401T084246Z
UID:1026-1658002500-1658002500@asciburgia.de
SUMMARY:Abkneipe
DESCRIPTION:
URL:https://asciburgia.de/veranstaltung/abkneipe-2/
END:VEVENT
BEGIN:VEVENT
DTSTART;TZID=Europe/Berlin:20220715T190000
DTEND;TZID=Europe/Berlin:20220715T190000
DTSTAMP:20260423T131521
CREATED:20220401T084208Z
LAST-MODIFIED:20220401T084208Z
UID:1024-1657911600-1657911600@asciburgia.de
SUMMARY:Gartenfest
DESCRIPTION:
URL:https://asciburgia.de/veranstaltung/gartenfest-3/
END:VEVENT
BEGIN:VEVENT
DTSTART;TZID=Europe/Berlin:20220709T111500
DTEND;TZID=Europe/Berlin:20220709T111500
DTSTAMP:20260423T131521
CREATED:20220401T084118Z
LAST-MODIFIED:20220401T084118Z
UID:1022-1657365300-1657365300@asciburgia.de
SUMMARY:Asciburgensportfest
DESCRIPTION:
URL:https://asciburgia.de/veranstaltung/asciburgensportfest/
END:VEVENT
BEGIN:VEVENT
DTSTART;VALUE=DATE:20220616
DTEND;VALUE=DATE:20220620
DTSTAMP:20260423T131521
CREATED:20220401T083943Z
LAST-MODIFIED:20220401T083943Z
UID:1020-1655337600-1655683199@asciburgia.de
SUMMARY:Stiftungsfest
DESCRIPTION:1. DO 18.00 Uhr Begrüßungsabend adH – Sommerlich-Chic \n2. FR 20.00 Uhr Kommers adH B! Arminiae – Vollcouleur \nparallel Begleitprogramm mit Schoppen\, Sekt & Selters voraussichtlich ab 19.00 Uhr – \n3. SA 10.00 Uhr Generalkonvent adH – Vollcouleur \n11.00 Uhr oAHC adH – Vollcouleur \n18.00 Uhr Tanzfest in den Räumlichkeiten der Zehntscheune im Innenhof des Julius-Spitals – Abendgarderobe \n4. SO 11.00 Uhr Frühschoppen – Sommerlich / Tracht
URL:https://asciburgia.de/veranstaltung/stiftungsfest-3/
END:VEVENT
BEGIN:VEVENT
DTSTART;VALUE=DATE:20220603
DTEND;VALUE=DATE:20220608
DTSTAMP:20260423T131521
CREATED:20220401T083832Z
LAST-MODIFIED:20220401T083832Z
UID:1018-1654214400-1654646399@asciburgia.de
SUMMARY:Coburger Pfingstkongress
DESCRIPTION:
URL:https://asciburgia.de/veranstaltung/coburger-pfingstkongress/
END:VEVENT
END:VCALENDAR